BEGIN:VCALENDAR
VERSION:2.0
PRODID:-//rfnswconference//NONSGML PDA Calendar Version 1.0//EN
CALSCALE:GREGORIAN
BEGIN:VEVENT
UID:202a298ef4dd3777a4307b8bbfaf7825
ORGANIZER:info@end2.co
DTSTAMP:20180607T093704Z
LOCATION:
SUMMARY:Road Freight NSW Conference 2018
DESCRIPTION:This informative conference will again present up to date relevant insights and information for your freight organisation. With a particular focus on the Chain of Responsibility\, the Road Freight NSW Conference program will include:\n\n 	Compliance Regulations\n 	Pertinent industry issues\n 	The latest technical safety applications\n 	Industry round table discussions\n 	The opportunity to network\, share experiences and insights in a relaxed environment\n 	And to end the day a casual dinner with your colleagues and peers
STATUS:CONFIRMED
CATEGORIES:
URL;VALUE=URI:https://rfnswconference.eventsmart.com/events/road-freight-nsw-conference-2018/
DTSTART:20180912T230000Z
DTEND:20180913T070000Z
END:VEVENT
END:VCALENDAR
